BEGIN:VCALENDAR
VERSION:2.0
PRODID:-//Ask The Agent - ECPv6.15.20//NONSGML v1.0//EN
CALSCALE:GREGORIAN
METHOD:PUBLISH
X-WR-CALNAME:Ask The Agent
X-ORIGINAL-URL:https://asktheagent.org
X-WR-CALDESC:Events for Ask The Agent
REFRESH-INTERVAL;VALUE=DURATION:PT1H
X-Robots-Tag:noindex
X-PUBLISHED-TTL:PT1H
BEGIN:VTIMEZONE
TZID:America/Chicago
BEGIN:DAYLIGHT
TZOFFSETFROM:-0600
TZOFFSETTO:-0500
TZNAME:CDT
DTSTART:20210314T080000
END:DAYLIGHT
BEGIN:STANDARD
TZOFFSETFROM:-0500
TZOFFSETTO:-0600
TZNAME:CST
DTSTART:20211107T070000
END:STANDARD
BEGIN:DAYLIGHT
TZOFFSETFROM:-0600
TZOFFSETTO:-0500
TZNAME:CDT
DTSTART:20220313T080000
END:DAYLIGHT
BEGIN:STANDARD
TZOFFSETFROM:-0500
TZOFFSETTO:-0600
TZNAME:CST
DTSTART:20221106T070000
END:STANDARD
BEGIN:DAYLIGHT
TZOFFSETFROM:-0600
TZOFFSETTO:-0500
TZNAME:CDT
DTSTART:20230312T080000
END:DAYLIGHT
BEGIN:STANDARD
TZOFFSETFROM:-0500
TZOFFSETTO:-0600
TZNAME:CST
DTSTART:20231105T070000
END:STANDARD
END:VTIMEZONE
BEGIN:VEVENT
DTSTART;TZID=America/Chicago:20221206T100000
DTEND;TZID=America/Chicago:20221206T100000
DTSTAMP:20260423T082348
CREATED:20220706T212203Z
LAST-MODIFIED:20220706T212203Z
UID:1044-1670320800-1670320800@asktheagent.org
SUMMARY:Ask The Agent Zoom with Dee
DESCRIPTION:
URL:https://asktheagent.org/event/ask-the-agent-zoom-with-dee-3/
LOCATION:Ask the Agent Zoom\, OK\, United States
ATTACH;FMTTYPE=image/jpeg:https://asktheagent.org/wp-content/uploads/2022/07/Tulsa-Skyline.jpg
END:VEVENT
BEGIN:VEVENT
DTSTART;TZID=America/Chicago:20221130T100000
DTEND;TZID=America/Chicago:20221130T120000
DTSTAMP:20260423T082348
CREATED:20220706T210910Z
LAST-MODIFIED:20220706T211454Z
UID:1036-1669802400-1669809600@asktheagent.org
SUMMARY:Ask the Agent In House with Terri & Mike
DESCRIPTION:
URL:https://asktheagent.org/event/ask-the-agent-in-house-with-terri-mike-4/
LOCATION:Healthmarkets-Terri Reagin\, 11043 s memorial dr\, Tulsa\, OK\, 74133\, United States
ATTACH;FMTTYPE=image/jpeg:https://asktheagent.org/wp-content/uploads/2022/07/Broken-Arrow-OK.jpg
END:VEVENT
BEGIN:VEVENT
DTSTART;TZID=America/Chicago:20221122T190000
DTEND;TZID=America/Chicago:20221122T210000
DTSTAMP:20260423T082348
CREATED:20220706T212513Z
LAST-MODIFIED:20220706T212513Z
UID:1049-1669143600-1669150800@asktheagent.org
SUMMARY:Ask The Agent Zoom with Dee
DESCRIPTION:
URL:https://asktheagent.org/event/ask-the-agent-zoom-with-dee-5/
LOCATION:Ask the Agent Zoom\, OK\, United States
ATTACH;FMTTYPE=image/jpeg:https://asktheagent.org/wp-content/uploads/2022/07/Tulsa-Skyline.jpg
END:VEVENT
BEGIN:VEVENT
DTSTART;TZID=America/Chicago:20221116T100000
DTEND;TZID=America/Chicago:20221116T120000
DTSTAMP:20260423T082348
CREATED:20220706T210823Z
LAST-MODIFIED:20220706T211657Z
UID:1034-1668592800-1668600000@asktheagent.org
SUMMARY:Ask the Agent In House with Terri & Mike
DESCRIPTION:
URL:https://asktheagent.org/event/ask-the-agent-in-house-with-terri-mike-3/
LOCATION:Healthmarkets-Terri Reagin\, 11043 s memorial dr\, Tulsa\, OK\, 74133\, United States
ATTACH;FMTTYPE=image/jpeg:https://asktheagent.org/wp-content/uploads/2022/07/Broken-Arrow-OK.jpg
END:VEVENT
BEGIN:VEVENT
DTSTART;TZID=America/Chicago:20221108T100000
DTEND;TZID=America/Chicago:20221108T120000
DTSTAMP:20260423T082348
CREATED:20220706T212044Z
LAST-MODIFIED:20220706T212044Z
UID:1042-1667901600-1667908800@asktheagent.org
SUMMARY:Ask The Agent Zoom with Dee
DESCRIPTION:
URL:https://asktheagent.org/event/ask-the-agent-zoom-with-dee-2/
LOCATION:Ask the Agent Zoom\, OK\, United States
ATTACH;FMTTYPE=image/jpeg:https://asktheagent.org/wp-content/uploads/2022/07/Tulsa-Skyline.jpg
END:VEVENT
BEGIN:VEVENT
DTSTART;TZID=America/Chicago:20221102T100000
DTEND;TZID=America/Chicago:20221102T120000
DTSTAMP:20260423T082348
CREATED:20220706T210634Z
LAST-MODIFIED:20220706T211610Z
UID:1032-1667383200-1667390400@asktheagent.org
SUMMARY:Ask the Agent In House with Terri & Mike
DESCRIPTION:
URL:https://asktheagent.org/event/ask-the-agent-in-house-with-terri-mike-2/
LOCATION:Healthmarkets-Terri Reagin\, 11043 s memorial dr\, Tulsa\, OK\, 74133\, United States
ATTACH;FMTTYPE=image/jpeg:https://asktheagent.org/wp-content/uploads/2022/07/Broken-Arrow-OK.jpg
END:VEVENT
BEGIN:VEVENT
DTSTART;TZID=America/Chicago:20221025T190000
DTEND;TZID=America/Chicago:20221025T210000
DTSTAMP:20260423T082348
CREATED:20220706T212326Z
LAST-MODIFIED:20220706T212326Z
UID:1047-1666724400-1666731600@asktheagent.org
SUMMARY:Ask The Agent Zoom with Dee
DESCRIPTION:
URL:https://asktheagent.org/event/ask-the-agent-zoom-with-dee-4/
LOCATION:Ask the Agent Zoom\, OK\, United States
ATTACH;FMTTYPE=image/jpeg:https://asktheagent.org/wp-content/uploads/2022/07/Tulsa-Skyline.jpg
END:VEVENT
BEGIN:VEVENT
DTSTART;TZID=America/Chicago:20221019T100000
DTEND;TZID=America/Chicago:20221019T120000
DTSTAMP:20260423T082348
CREATED:20220706T212629Z
LAST-MODIFIED:20220706T212629Z
UID:1051-1666173600-1666180800@asktheagent.org
SUMMARY:Ask the Agent In House with Terri & Mike
DESCRIPTION:
URL:https://asktheagent.org/event/ask-the-agent-in-house-with-terri-mike-5/
LOCATION:Healthmarkets-Terri Reagin\, 11043 s memorial dr\, Tulsa\, OK\, 74133\, United States
ATTACH;FMTTYPE=image/jpeg:https://asktheagent.org/wp-content/uploads/2022/07/Broken-Arrow-OK.jpg
END:VEVENT
BEGIN:VEVENT
DTSTART;TZID=America/Chicago:20221012T100000
DTEND;TZID=America/Chicago:20221012T120000
DTSTAMP:20260423T082348
CREATED:20220706T211942Z
LAST-MODIFIED:20220706T211942Z
UID:1039-1665568800-1665576000@asktheagent.org
SUMMARY:Ask The Agent Zoom with Dee
DESCRIPTION:
URL:https://asktheagent.org/event/ask-the-agent-zoom-with-dee/
LOCATION:Ask the Agent Zoom\, OK\, United States
ATTACH;FMTTYPE=image/jpeg:https://asktheagent.org/wp-content/uploads/2022/07/Tulsa-Skyline.jpg
END:VEVENT
BEGIN:VEVENT
DTSTART;TZID=America/Chicago:20221005T100000
DTEND;TZID=America/Chicago:20221005T120000
DTSTAMP:20260423T082348
CREATED:20220706T205629Z
LAST-MODIFIED:20220706T211515Z
UID:1027-1664964000-1664971200@asktheagent.org
SUMMARY:Ask the Agent In House with Terri & Mike
DESCRIPTION:
URL:https://asktheagent.org/event/ask-the-agent-in-house-with-terri-mike/
LOCATION:Healthmarkets-Terri Reagin\, 11043 s memorial dr\, Tulsa\, OK\, 74133\, United States
ATTACH;FMTTYPE=image/jpeg:https://asktheagent.org/wp-content/uploads/2022/07/Broken-Arrow-OK.jpg
END:VEVENT
BEGIN:VEVENT
DTSTART;TZID=America/Chicago:20220802T180000
DTEND;TZID=America/Chicago:20220802T190000
DTSTAMP:20260423T082348
CREATED:20220715T025725Z
LAST-MODIFIED:20220715T025725Z
UID:1068-1659463200-1659466800@asktheagent.org
SUMMARY:Ask the agent: FAQ of Medicare
DESCRIPTION:Use the below Zoom Link to join: \nhttps://us02web.zoom.us/meeting/register/tZAqd-isqDIoGtAptS7MQhUasQ3KqwFmYSAr
URL:https://asktheagent.org/event/ask-the-agent-faq-of-medicare/
LOCATION:Ask the Agent Zoom\, OK\, United States
ATTACH;FMTTYPE=image/jpeg:https://asktheagent.org/wp-content/uploads/2022/07/Tulsa-Skyline.jpg
END:VEVENT
END:VCALENDAR